BEGIN:VCALENDAR
VERSION:2.0
PRODID:-//NowAndEver - ECPv6.15.20//NONSGML v1.0//EN
CALSCALE:GREGORIAN
METHOD:PUBLISH
X-WR-CALNAME:NowAndEver
X-ORIGINAL-URL:https://blog.nowandever.de
X-WR-CALDESC:Veranstaltungen für NowAndEver
REFRESH-INTERVAL;VALUE=DURATION:PT1H
X-Robots-Tag:noindex
X-PUBLISHED-TTL:PT1H
BEGIN:VTIMEZONE
TZID:Europe/Berlin
BEGIN:DAYLIGHT
TZOFFSETFROM:+0100
TZOFFSETTO:+0200
TZNAME:CEST
DTSTART:20230326T010000
END:DAYLIGHT
BEGIN:STANDARD
TZOFFSETFROM:+0200
TZOFFSETTO:+0100
TZNAME:CET
DTSTART:20231029T010000
END:STANDARD
BEGIN:DAYLIGHT
TZOFFSETFROM:+0100
TZOFFSETTO:+0200
TZNAME:CEST
DTSTART:20240331T010000
END:DAYLIGHT
BEGIN:STANDARD
TZOFFSETFROM:+0200
TZOFFSETTO:+0100
TZNAME:CET
DTSTART:20241027T010000
END:STANDARD
BEGIN:DAYLIGHT
TZOFFSETFROM:+0100
TZOFFSETTO:+0200
TZNAME:CEST
DTSTART:20250330T010000
END:DAYLIGHT
BEGIN:STANDARD
TZOFFSETFROM:+0200
TZOFFSETTO:+0100
TZNAME:CET
DTSTART:20251026T010000
END:STANDARD
END:VTIMEZONE
BEGIN:VEVENT
DTSTART;TZID=Europe/Berlin:20241106T200000
DTEND;TZID=Europe/Berlin:20241106T230000
DTSTAMP:20260419T195942
CREATED:20250730T141717Z
LAST-MODIFIED:20250730T141717Z
UID:433-1730923200-1730934000@blog.nowandever.de
SUMMARY:BIEN - The Alusa Why Are You Topless Deluxe Tour Berlin
DESCRIPTION:Bien-Aimé Baraza\, der bezaubernde Maestro und Frontmann der weltbekannten kenianischen Band Sauti Sol\, geht auf Solo-Tournee in Deutschland! Mit seinen magnetischen Vocals und seiner fesselnden Bühnenpräsenz hat Bien die Musikszene erobert und führt nun seine künstlerische Reise als Solokünstler fort.\nBien ist bekannt für seine Fähigkeit\, Genres zu verschmelzen und einzigartige Klangerlebnisse zu schaffen. Als Mitglied von Sauti Sol hat er zahlreiche internationale Preise gewonnen\, darunter den MTV Africa Music Award\, den BET Award und den afrikanischen Muzik Magazine Award (AFRIMMA). Diese Erfolge haben Bien zu einem der bekanntesten und angesehensten Musiker Afrikas gemacht.\nSein Solo-Debütalbum “Bald Men Love Better” hat ebenfalls Wellen geschlagen und seine Position als Solokünstler gefestigt. Mit der hitverdächtigen Single “Nobody” featuring Darassa erreichte er die Spitze der afrikanischen Musikcharts. Weitere Kollaborationen mit internationalen Stars wie Ayra Starr in “My Baby” und DJ Edu in “Too Easy” haben seine musikalische Vielseitigkeit und sein Talent unter Beweis gestellt.
URL:https://blog.nowandever.de/event/bien-the-alusa-why-are-you-topless-deluxe-tour-berlin/
LOCATION:BiNuu\, U-Bahnhof Schlesisches Tor\, Berlin\, Berlin\, 10997\, Germany
ATTACH;FMTTYPE=image/jpeg:https://blog.nowandever.de/wp-content/uploads/2025/07/Bien-Aime_Insta_Berlin.jpg
ORGANIZER;CN="NowAndEver Music GmbH":MAILTO:info@nowandever.de
END:VEVENT
BEGIN:VEVENT
DTSTART;TZID=Europe/Berlin:20241107T200000
DTEND;TZID=Europe/Berlin:20241107T230000
DTSTAMP:20260419T195942
CREATED:20250730T141819Z
LAST-MODIFIED:20250730T141819Z
UID:438-1731009600-1731020400@blog.nowandever.de
SUMMARY:BIEN - The Alusa Why Are You Topless Deluxe Tour Hamburg
DESCRIPTION:Bien-Aimé Baraza\, der bezaubernde Maestro und Frontmann der weltbekannten kenianischen Band Sauti Sol\, geht auf Solo-Tournee in Deutschland! Mit seinen magnetischen Vocals und seiner fesselnden Bühnenpräsenz hat Bien die Musikszene erobert und führt nun seine künstlerische Reise als Solokünstler fort.\nBien ist bekannt für seine Fähigkeit\, Genres zu verschmelzen und einzigartige Klangerlebnisse zu schaffen. Als Mitglied von Sauti Sol hat er zahlreiche internationale Preise gewonnen\, darunter den MTV Africa Music Award\, den BET Award und den afrikanischen Muzik Magazine Award (AFRIMMA). Diese Erfolge haben Bien zu einem der bekanntesten und angesehensten Musiker Afrikas gemacht.\nSein Solo-Debütalbum “Bald Men Love Better” hat ebenfalls Wellen geschlagen und seine Position als Solokünstler gefestigt. Mit der hitverdächtigen Single “Nobody” featuring Darassa erreichte er die Spitze der afrikanischen Musikcharts. Weitere Kollaborationen mit internationalen Stars wie Ayra Starr in “My Baby” und DJ Edu in “Too Easy” haben seine musikalische Vielseitigkeit und sein Talent unter Beweis gestellt.
URL:https://blog.nowandever.de/event/bien-the-alusa-why-are-you-topless-deluxe-tour-hamburg/
LOCATION:Uebel&Gefährlich\, Feldstraße 66\, Hamburg\, Hamburg\, 20359\, Germany
ATTACH;FMTTYPE=image/jpeg:https://blog.nowandever.de/wp-content/uploads/2025/07/Bien-Aime_Insta_Hamburg.jpg
ORGANIZER;CN="NowAndEver Music GmbH":MAILTO:info@nowandever.de
END:VEVENT
BEGIN:VEVENT
DTSTART;TZID=Europe/Berlin:20241127T200000
DTEND;TZID=Europe/Berlin:20241127T230000
DTSTAMP:20260419T195942
CREATED:20250730T140851Z
LAST-MODIFIED:20250730T140851Z
UID:426-1732737600-1732748400@blog.nowandever.de
SUMMARY:KING PROMISE - True To Self Tour
DESCRIPTION:Ein unvergesslicher Abend steht bevor\, wenn der ghanaische Superstar King Promise am 27. November 2024 die Bühne im Uebel & Gefährlich in Hamburg betritt. Mit seiner einzigartigen Stimme und mitreißenden Performances wird King Promise seine Fans in Deutschland begeistern.\nKing Promise\, geboren als Gregory Bortey Newman\, ist einer der herausragendsten Künstler der afrikanischen Musikszene. Bekannt für seine Hits wie “CCTV”\, “Commando” und “Sisa”\, hat er sich mit seiner Mischung aus Afrobeats\, Highlife und R&B einen Namen gemacht. Seine beeindruckende Karriere umfasst zahlreiche Auszeichnungen und Nominierungen\, darunter die Ghana Music Awards und die AFRIMMA Awards.\nMit Millionen von Streams weltweit und einer treuen Fangemeinde hat King Promise international Anerkennung gefunden. Sein Debütalbum “As Promised” erzielte großen Erfolg und brachte zahlreiche Chart-Hits hervor. Kollaborationen mit internationalen Stars wie Wizkid\, Sarkodie und Raye unterstreichen seine globale Reichweite und musikalische Vielseitigkeit.\nDas Konzert in Hamburg verspricht\, ein Highlight des Jahres zu werden. King Promise wird seine größten Hits sowie neue Musik aus seinem kommenden Album präsentieren\, das bereits mit Spannung erwartet wird. Seine Live-Auftritte sind bekannt für ihre Energie und die starke Verbindung\, die er mit seinem Publikum aufbaut.
URL:https://blog.nowandever.de/event/king-promise-true-to-self-tour/
LOCATION:Uebel&Gefährlich\, Feldstraße 66\, Hamburg\, Hamburg\, 20359\, Germany
ATTACH;FMTTYPE=image/jpeg:https://blog.nowandever.de/wp-content/uploads/2025/07/KingPromes_Tour_Insta_2.jpg
ORGANIZER;CN="NowAndEver Music GmbH":MAILTO:info@nowandever.de
END:VEVENT
END:VCALENDAR