BEGIN:VCALENDAR
VERSION:2.0
PRODID:-//NowAndEver - ECPv6.15.20//NONSGML v1.0//EN
CALSCALE:GREGORIAN
METHOD:PUBLISH
X-WR-CALNAME:NowAndEver
X-ORIGINAL-URL:https://blog.nowandever.de
X-WR-CALDESC:Veranstaltungen für NowAndEver
REFRESH-INTERVAL;VALUE=DURATION:PT1H
X-Robots-Tag:noindex
X-PUBLISHED-TTL:PT1H
BEGIN:VTIMEZONE
TZID:Europe/Berlin
BEGIN:DAYLIGHT
TZOFFSETFROM:+0100
TZOFFSETTO:+0200
TZNAME:CEST
DTSTART:20230326T010000
END:DAYLIGHT
BEGIN:STANDARD
TZOFFSETFROM:+0200
TZOFFSETTO:+0100
TZNAME:CET
DTSTART:20231029T010000
END:STANDARD
BEGIN:DAYLIGHT
TZOFFSETFROM:+0100
TZOFFSETTO:+0200
TZNAME:CEST
DTSTART:20240331T010000
END:DAYLIGHT
BEGIN:STANDARD
TZOFFSETFROM:+0200
TZOFFSETTO:+0100
TZNAME:CET
DTSTART:20241027T010000
END:STANDARD
BEGIN:DAYLIGHT
TZOFFSETFROM:+0100
TZOFFSETTO:+0200
TZNAME:CEST
DTSTART:20250330T010000
END:DAYLIGHT
BEGIN:STANDARD
TZOFFSETFROM:+0200
TZOFFSETTO:+0100
TZNAME:CET
DTSTART:20251026T010000
END:STANDARD
END:VTIMEZONE
BEGIN:VEVENT
DTSTART;TZID=Europe/Berlin:20241210T200000
DTEND;TZID=Europe/Berlin:20241210T230000
DTSTAMP:20260419T171313
CREATED:20250730T142359Z
LAST-MODIFIED:20250730T142359Z
UID:440-1733860800-1733871600@blog.nowandever.de
SUMMARY:BOOHLE live in Berlin
DESCRIPTION:Die gefeierte südafrikanische Amapiano-Vokalistin Boohle gibt ihr Debüt in Deutschland und bringt die pulsierenden Rhythmen und einzigartigen Vocals des Amapiano-Genres direkt nach Berlin! Am 10.Dezember 2024 wird sie im Frannz Club auftreten und das Publikum mit ihrer unverwechselbaren Stimme und elektrisierenden Performance begeistern.\nBoohle\, bekannt für ihre außergewöhnliche Stimme und beeindruckende Bühnenpräsenz\, hat die Musikszene in Südafrika und darüber hinaus im Sturm erobert. Ihre Zusammenarbeit mit Top-DJs und Produzenten wie Josiah De Disciple und Mr JazziQ hat ihr eine große Fangemeinde eingebracht und Hits wie “Singili”\, “Hamba Wena”\, “Ngixolele” und “Siyathandana” hervorgebracht. Ihre Musik\, eine perfekte Mischung aus Amapiano\, Soul und House\, hat sie zu einer der gefragtesten Künstlerinnen der neuen südafrikanischen Musikbewegung gemacht.\nDas Konzert im Frannz Club markiert ihr erstes Konzert weltweit und verspricht eine unvergessliche Nacht voller Energie und musikalischer Highlights. Boohle wird nicht nur ihre bekannten Hits performen\, sondern auch neue Songs aus ihrem kommenden Album vorstellen. Dieses exklusive Event bietet den deutschen Fans die einmalige Gelegenheit\, Amapiano live zu erleben – ein Genre\, das die Welt im Sturm erobert und Tanzflächen von Johannesburg bis Berlin zum Beben bringt.
URL:https://blog.nowandever.de/event/boohle-live-in-berlin/
LOCATION:Frannz Club\, Schönhauser Allee 36\, Berlin\, Berlin\, 10435\, Germany
ATTACH;FMTTYPE=image/jpeg:https://blog.nowandever.de/wp-content/uploads/2025/07/BOOHLE-INSTA_TOUR_BERLIN.jpg
ORGANIZER;CN="NowAndEver Music GmbH":MAILTO:info@nowandever.de
END:VEVENT
END:VCALENDAR